BEGIN:VCALENDAR
VERSION:2.0
PRODID:-//evangelische-termine.de//NONSGML kigkonsult.se iCalcreator 2.18//
CALSCALE:GREGORIAN
METHOD:PUBLISH
X-WR-CALNAME:iCal Evangelische-Termine 23.04.2026
X-WR-CALDESC:iCalender von Evangelische-Termine (23.04.2026)
X-WR-TIMEZONE:Europe/Berlin
X-MS-OLK-FORCEINSPECTOROPEN:TRUE
BEGIN:VTIMEZONE
TZID:Europe/Berlin
BEGIN:STANDARD
DTSTART:19701025T030000
TZOFFSETFROM:+0200
TZOFFSETTO:+0100
RRULE:FREQ=YEARLY;BYDAY=-1SU;BYMONTH=10
TZNAME:CET
END:STANDARD
BEGIN:DAYLIGHT
DTSTART:19700329T020000
TZOFFSETFROM:+0100
TZOFFSETTO:+0200
RRULE:FREQ=YEARLY;BYDAY=-1SU;BYMONTH=3
TZNAME:CEST
END:DAYLIGHT
END:VTIMEZONE
BEGIN:VEVENT
UID:20261025T101500-41860@evangelische-termine.de
DTSTAMP:20260423T143356Z
DESCRIPTION:\nFür Engagierte: Nein\nVeranstaltungsort: Evangelische Auferst
 ehungskirche Planig\nAm Ehrenmal 4\n55545 Bad Kreuznach\nFormat der Verans
 taltung: Präsenzveranstaltung\nLeitung des Gottesdienstes: Pfarrer König
DTSTART;TZID=Europe/Berlin:20261025T101500
DTEND;TZID=Europe/Berlin:20261025T111500
LOCATION:Bad Kreuznach: Evangelische Auferstehungskirche Planig
SUMMARY:Gottesdienst am Sonntagmorgen
URL:https://termine.ekhn.de/veranstaltung_im_detail41860.html
END:VEVENT
END:VCALENDAR
