BEGIN:VCALENDAR
VERSION:2.0
PRODID:-//evangelische-termine.de//NONSGML kigkonsult.se iCalcreator 2.18//
CALSCALE:GREGORIAN
METHOD:PUBLISH
X-WR-CALNAME:iCal Evangelische-Termine 23.04.2026
X-WR-CALDESC:iCalender von Evangelische-Termine (23.04.2026)
X-WR-TIMEZONE:Europe/Berlin
X-MS-OLK-FORCEINSPECTOROPEN:TRUE
BEGIN:VTIMEZONE
TZID:Europe/Berlin
BEGIN:STANDARD
DTSTART:19701025T030000
TZOFFSETFROM:+0200
TZOFFSETTO:+0100
RRULE:FREQ=YEARLY;BYDAY=-1SU;BYMONTH=10
TZNAME:CET
END:STANDARD
BEGIN:DAYLIGHT
DTSTART:19700329T020000
TZOFFSETFROM:+0100
TZOFFSETTO:+0200
RRULE:FREQ=YEARLY;BYDAY=-1SU;BYMONTH=3
TZNAME:CEST
END:DAYLIGHT
END:VTIMEZONE
BEGIN:VEVENT
UID:20261018T180000-41861@evangelische-termine.de
DTSTAMP:20260423T155935Z
DESCRIPTION:\nFür Engagierte: Nein\nVeranstaltungsort: Evangelische Martins
 kirche Biebelsheim\nObergasse 3\n55546 Biebelsheim\nFormat der Veranstaltu
 ng: Präsenzveranstaltung\nAusführliche Beschreibung: „SPÄTSCHICHT“ - Der A
 bendgottesdienst für „Ausgeschlafene“\n\nDie Spätschicht ist ein „Kurzgott
 esdienst“ mit anschließendem lockeren\, geselligen Beisammensein\, bei ein
 em Glas Wein oder Wasser. \nSie zeichnet sich durch eine einfache Liturgie
  mit eingängigen Liedern aus\, die über einen längeren Zeitraum beibehalte
 n werden. Anstelle einer längeren Predigt stehen „Abendgedanken“\, die z.B
 . aus einem kurzen Impuls\, einem Gespräch oder dem Beitrag eines „Gastes“
  besehen können. In einer offenen Zeit können die Teilnehmer*innen zur Org
 elmusik für sich durch den Raum gehen und an unterschiedlichen Stationen '
 aktiv' werden\, z.B. durch das Entzünden einer Kerze\, dem Ablegen eines S
 teines\, das Mitnehmen eines Segenswortes\, dem Aufschreiben eines Gebetsa
 nliegens oder einfach\, indem sie der Musik lauschen und den eigenen Gedan
 ken nachgehen.\nLeitung des Gottesdienstes: Pfarrerin Martin
DTSTART;TZID=Europe/Berlin:20261018T180000
DTEND;TZID=Europe/Berlin:20261018T190000
LOCATION:Biebelsheim: Evangelische Martinskirche Biebelsheim
SUMMARY:Spätschicht - Gottesdienst für Ausgeschlafene
URL:https://termine.ekhn.de/veranstaltung_im_detail41861.html
END:VEVENT
END:VCALENDAR
