BEGIN:VCALENDAR
VERSION:2.0
PRODID:-//evangelische-termine.de//NONSGML kigkonsult.se iCalcreator 2.18//
CALSCALE:GREGORIAN
METHOD:PUBLISH
X-WR-CALNAME:iCal Evangelische-Termine 23.04.2026
X-WR-CALDESC:iCalender von Evangelische-Termine (23.04.2026)
X-WR-TIMEZONE:Europe/Berlin
X-MS-OLK-FORCEINSPECTOROPEN:TRUE
BEGIN:VTIMEZONE
TZID:Europe/Berlin
BEGIN:STANDARD
DTSTART:19701025T030000
TZOFFSETFROM:+0200
TZOFFSETTO:+0100
RRULE:FREQ=YEARLY;BYDAY=-1SU;BYMONTH=10
TZNAME:CET
END:STANDARD
BEGIN:DAYLIGHT
DTSTART:19700329T020000
TZOFFSETFROM:+0100
TZOFFSETTO:+0200
RRULE:FREQ=YEARLY;BYDAY=-1SU;BYMONTH=3
TZNAME:CEST
END:DAYLIGHT
END:VTIMEZONE
BEGIN:VEVENT
UID:20260524T110000-41889@evangelische-termine.de
DTSTAMP:20260423T182704Z
DESCRIPTION:\nVeranstaltungsort: Sparkassenbühne vor dem Landesmuseum\nFrie
 densplatz 1\n64283 Darmstadt\nKurzbeschreibung / Untertitel: Schlossgraben
 -Gospelgottesdienst am Pfingstsonntag\nAusführliche Beschreibung: Am Pfing
 stsonntag\, dem 24. Mai um 11 Uhr wird auf der Sparkassenbühne vor dem Lan
 desmuseum ein ökumenische Gospelgottesdienst im Rahmen des Schlossgrabenfe
 stes gefeiert. Unter dem Motto „Himmelsöffnerin“ erklingt viel Musik mit d
 em Gospelchor „GoGospel“ aus Traisa unter der Leitung von Finn Krug. Die C
 ellistin Sue Schlotte wird mit ihrem Cello improvisieren und der Pop-/Soul
 -Kantor Tobias Landsiedel aus Offenbach wird zeigen\, wie Musik Menschen b
 egeistert. Inwiefern Musik den Himmel öffnen kann erläutert Pfarrerin Nath
 alie Franke aus Rossdorf. \nKirche & Co. lädt in Kooperation mit dem Kath.
  Pastoralraum Darmstadt-Mitte und dem Ev. Dekanat Darmstadt herzlich ein. 
 Der Eintritt ist frei.\nGemeinde: Ober-Ramstadt\nGottesdiensttyp: Gottesdi
 enst
DTSTART;TZID=Europe/Berlin:20260524T110000
DTEND;TZID=Europe/Berlin:20260524T120000
LOCATION:Darmstadt: Sparkassenbühne vor dem Landesmuseum
SUMMARY:„Himmelsöffnerin“
URL:https://termine.ekhn.de/veranstaltung_im_detail41889.html
END:VEVENT
END:VCALENDAR
