BEGIN:VCALENDAR
VERSION:2.0
PRODID:-//evangelische-termine.de//NONSGML kigkonsult.se iCalcreator 2.18//
CALSCALE:GREGORIAN
METHOD:PUBLISH
X-WR-CALNAME:iCal Evangelische-Termine 24.04.2026
X-WR-CALDESC:iCalender von Evangelische-Termine (24.04.2026)
X-WR-TIMEZONE:Europe/Berlin
X-MS-OLK-FORCEINSPECTOROPEN:TRUE
BEGIN:VTIMEZONE
TZID:Europe/Berlin
BEGIN:STANDARD
DTSTART:19701025T030000
TZOFFSETFROM:+0200
TZOFFSETTO:+0100
RRULE:FREQ=YEARLY;BYDAY=-1SU;BYMONTH=10
TZNAME:CET
END:STANDARD
BEGIN:DAYLIGHT
DTSTART:19700329T020000
TZOFFSETFROM:+0100
TZOFFSETTO:+0200
RRULE:FREQ=YEARLY;BYDAY=-1SU;BYMONTH=3
TZNAME:CEST
END:DAYLIGHT
END:VTIMEZONE
BEGIN:VEVENT
UID:20260501T110000-41957@evangelische-termine.de
DTSTAMP:20260424T140258Z
DESCRIPTION:\nFür Engagierte: Nein\nVeranstaltungsort: Dreifaltigkeitskirch
 e\nMarktplatz 12\n67547 Worms\nFormat der Veranstaltung: Präsenzveranstalt
 ung\nKurzbeschreibung / Untertitel: am Engel der Kulturen\nAusführliche Be
 schreibung: Eine Stunde vor der Mai-Kundgebung der Gewerkschaften und fest
  mit dem 1. Mai verbunden lädt der Interkulturelle Runde Tisch ein zum Mai
 gebet. Was kommt zuerst\, welche Werte sind die Wichtigen\, sind Fragen\, 
 die die Vorbereitungsgruppe ausgehend vom diesjährigen Motto des DGB bearb
 eitet hat: „erst unsere Jobs – dann eure Profite“. Die Wormser Moscheegeme
 inden DITIB und IGMG\, die Alevitische Gemeinde\, katholische und evangeli
 sche Kirche tragen ihre unterschiedlichen Perspektiven zusammen. „Auf eine
 m Boden unter demselben Himmel stehend“\, so Pfarrerin Dr. Erika Mohri als
  Mit-Organisatorin\, beten sie gemeinsam für Frieden und Gerechtigkeit. Da
 s Maigebet findet statt am 1. Mai\, 11 Uhr\, am Engel der Kulturen vor der
  Dreifaltigkeitskirche.\nKosten: keine\nVeranstalter: Interkultureller Run
 der Tisch Worms\nTelefonnummer bei Rückfragen zur Veranstaltung: 0163 / 25
 30683
DTSTART;TZID=Europe/Berlin:20260501T110000
DTEND;TZID=Europe/Berlin:20260501T113000
LOCATION:Worms: Dreifaltigkeitskirche
SUMMARY:Maigebet der Religionen :: „erst unsere Jobs – dann eure Profite“
URL:https://termine.ekhn.de/veranstaltung_im_detail41957.html
END:VEVENT
END:VCALENDAR
