BEGIN:VCALENDAR
VERSION:2.0
PRODID:-//evangelische-termine.de//NONSGML kigkonsult.se iCalcreator 2.18//
CALSCALE:GREGORIAN
METHOD:PUBLISH
X-WR-CALNAME:iCal Evangelische-Termine 23.04.2026
X-WR-CALDESC:iCalender von Evangelische-Termine (23.04.2026)
X-WR-TIMEZONE:Europe/Berlin
X-MS-OLK-FORCEINSPECTOROPEN:TRUE
BEGIN:VTIMEZONE
TZID:Europe/Berlin
BEGIN:STANDARD
DTSTART:19701025T030000
TZOFFSETFROM:+0200
TZOFFSETTO:+0100
RRULE:FREQ=YEARLY;BYDAY=-1SU;BYMONTH=10
TZNAME:CET
END:STANDARD
BEGIN:DAYLIGHT
DTSTART:19700329T020000
TZOFFSETFROM:+0100
TZOFFSETTO:+0200
RRULE:FREQ=YEARLY;BYDAY=-1SU;BYMONTH=3
TZNAME:CEST
END:DAYLIGHT
END:VTIMEZONE
BEGIN:VEVENT
UID:20260429T193000-41960@evangelische-termine.de
DTSTAMP:20260423T165053Z
DESCRIPTION:\nFür Engagierte: Nein\nVeranstaltungsort: Lukaskirche Worms\nB
 ensheimer Str. 15\n67547 Worms\nFormat der Veranstaltung: Präsenzveranstal
 tung\nKurzbeschreibung / Untertitel: Interkulturelles Fest - Zusammen / In
 terkulturelle Woche\nAusführliche Beschreibung: Am kommenden Mittwoch\, 29
 . April\, 19.30 Uhr\, findet das nächste Treffen am Interkulturellen Runde
 n Tisch statt. Langjährige Beteiligte und neue Interessierte sind eingelad
 en in den Vorraum der Lukaskirche\, Bensheimerstr. 15\, Worms. „Denn die d
 ie Lukaskirche ist der Ort unserer Innenstadt-Gemeinde“\, so Pfarrerin Dr.
  Erika Mohri\, „der mittendrin zwischen Moschee-Gemeinden und internationa
 len Kulturvereinen liegt\, und dem schon immer an einer guten Nachbarschaf
 t zu seiner kulturell und religiös vielfältigen Umgebung lag.“ Auf der Tag
 esordnung stehen Planungen für das „Interkulturelle Fest – Zusammen“\, mit
  Gründung eines Festkomitees\, und für die Interkulturelle Woche.\nVeranst
 alter: Interkultureller Runder Tisch Worms\nTelefonnummer bei Rückfragen z
 ur Veranstaltung: 0163 / 2530683
DTSTART;TZID=Europe/Berlin:20260429T193000
DTEND;TZID=Europe/Berlin:20260429T213000
LOCATION:Worms: Lukaskirche Worms
SUMMARY:Treffen des Interkulturellen Runden Tisches Worms :: Planungsrunde
URL:https://termine.ekhn.de/veranstaltung_im_detail41960.html
END:VEVENT
END:VCALENDAR
