BEGIN:VCALENDAR
VERSION:2.0
PRODID:-//evangelische-termine.de//NONSGML kigkonsult.se iCalcreator 2.18//
CALSCALE:GREGORIAN
METHOD:PUBLISH
X-WR-CALNAME:iCal Evangelische-Termine 24.04.2026
X-WR-CALDESC:iCalender von Evangelische-Termine (24.04.2026)
X-WR-TIMEZONE:Europe/Berlin
X-MS-OLK-FORCEINSPECTOROPEN:TRUE
BEGIN:VTIMEZONE
TZID:Europe/Berlin
BEGIN:STANDARD
DTSTART:19701025T030000
TZOFFSETFROM:+0200
TZOFFSETTO:+0100
RRULE:FREQ=YEARLY;BYDAY=-1SU;BYMONTH=10
TZNAME:CET
END:STANDARD
BEGIN:DAYLIGHT
DTSTART:19700329T020000
TZOFFSETFROM:+0100
TZOFFSETTO:+0200
RRULE:FREQ=YEARLY;BYDAY=-1SU;BYMONTH=3
TZNAME:CEST
END:DAYLIGHT
END:VTIMEZONE
BEGIN:VEVENT
UID:20260518T190000-41970@evangelische-termine.de
DTSTAMP:20260424T165459Z
DESCRIPTION:\nKurzbeschreibung / Untertitel: Ökumenische Pfingstwoche zur E
 inheit der Christen 2026\nAusführliche Beschreibung: Anlässlich der Ökumen
 ischen Pfingstwoche zur Einheit der Christen 2026 feiern die Evangelischen
  Gemeinden im Selztal und die katholische Pfarrei St. Maria Magdalena Inge
 lheim zahlreiche Andachten unter dem Motto 'Da ist ein Sehnen tief in uns'
  jeweils von 19:00 Uhr bis 19:30 Uhr. Am 18. Mai in der Evangelischen Pete
 rskirche Stadecken\, am 19. Mai in der Evangelischen Kirche in Schwabenhei
 m\, am 20. Mai in der Evangelischen Martinskirche Jugenheim\, am 21. Mai i
 n der Evangelischen Kirche in Bubenheim und am 22. Mai in der Katholischen
  Kirche St. Bartholomäus in Schwabenheim.\nAnmeldung: Nein\nForm der Veran
 staltung: Präsenzveranstaltung\nVeranstalter: Evangelischen Kirchengemeind
 en im Selztagl und die katholische Pfarrei St. Maria Magdalena
DTSTART;TZID=Europe/Berlin:20260518T190000
DTEND;TZID=Europe/Berlin:20260522T193000
LOCATION:: Ohne Ort
SUMMARY:'Da ist ein Sehnen tief in uns'
URL:https://termine.ekhn.de/veranstaltung_im_detail41970.html
END:VEVENT
END:VCALENDAR
