BEGIN:VCALENDAR
VERSION:2.0
PRODID:-//evangelische-termine.de//NONSGML kigkonsult.se iCalcreator 2.18//
CALSCALE:GREGORIAN
METHOD:PUBLISH
X-WR-CALNAME:iCal Evangelische-Termine 25.04.2026
X-WR-CALDESC:iCalender von Evangelische-Termine (25.04.2026)
X-WR-TIMEZONE:Europe/Berlin
X-MS-OLK-FORCEINSPECTOROPEN:TRUE
BEGIN:VTIMEZONE
TZID:Europe/Berlin
BEGIN:STANDARD
DTSTART:19701025T030000
TZOFFSETFROM:+0200
TZOFFSETTO:+0100
RRULE:FREQ=YEARLY;BYDAY=-1SU;BYMONTH=10
TZNAME:CET
END:STANDARD
BEGIN:DAYLIGHT
DTSTART:19700329T020000
TZOFFSETFROM:+0100
TZOFFSETTO:+0200
RRULE:FREQ=YEARLY;BYDAY=-1SU;BYMONTH=3
TZNAME:CEST
END:DAYLIGHT
END:VTIMEZONE
BEGIN:VEVENT
UID:20261220T180000-41976@evangelische-termine.de
DTSTAMP:20260424T235537Z
DESCRIPTION:\nFür Engagierte: Nein\nVeranstaltungsort: Evangelische Martins
 kirche Biebelsheim\nObergasse 3\n55546 Biebelsheim\nFormat der Veranstaltu
 ng: Präsenzveranstaltung\nAusführliche Beschreibung: „SPÄTSCHICHT“ - Adven
 tliche\, musikalische Spätschicht\n\nDie Spätschicht ist ein „Kurzgottesdi
 enst“ mit anschließendem lockeren\, geselligen Beisammensein\, bei einem G
 las Wein oder Wasser. \nSie zeichnet sich durch eine einfache Liturgie mit
  eingängigen Liedern aus\, die über einen längeren Zeitraum beibehalten we
 rden. Anstelle einer längeren Predigt stehen „Abendgedanken“\, die z.B. au
 s einem kurzen Impuls\, einem Gespräch oder dem Beitrag eines „Gastes“ bes
 ehen können. In einer offenen Zeit können die Teilnehmer*innen zur Orgelmu
 sik für sich durch den Raum gehen und an unterschiedlichen Stationen 'akti
 v' werden\, z.B. durch das Entzünden einer Kerze\, dem Ablegen eines Stein
 es\, das Mitnehmen eines Segenswortes\, dem Aufschreiben eines Gebetsanlie
 gens oder einfach\, indem sie der Musik lauschen und den eigenen Gedanken 
 nachgehen.\nLeitung des Gottesdienstes: Pfarrerin Martin
DTSTART;TZID=Europe/Berlin:20261220T180000
DTEND;TZID=Europe/Berlin:20261220T190000
LOCATION:Biebelsheim: Evangelische Martinskirche Biebelsheim
SUMMARY:Adventliche\, musikalische Spätschicht zum 4. Advent
URL:https://termine.ekhn.de/veranstaltung_im_detail41976.html
END:VEVENT
END:VCALENDAR
