BEGIN:VCALENDAR
VERSION:2.0
PRODID:-//evangelische-termine.de//NONSGML kigkonsult.se iCalcreator 2.18//
CALSCALE:GREGORIAN
METHOD:PUBLISH
X-WR-CALNAME:iCal Evangelische-Termine 25.04.2026
X-WR-CALDESC:iCalender von Evangelische-Termine (25.04.2026)
X-WR-TIMEZONE:Europe/Berlin
X-MS-OLK-FORCEINSPECTOROPEN:TRUE
BEGIN:VTIMEZONE
TZID:Europe/Berlin
BEGIN:STANDARD
DTSTART:19701025T030000
TZOFFSETFROM:+0200
TZOFFSETTO:+0100
RRULE:FREQ=YEARLY;BYDAY=-1SU;BYMONTH=10
TZNAME:CET
END:STANDARD
BEGIN:DAYLIGHT
DTSTART:19700329T020000
TZOFFSETFROM:+0100
TZOFFSETTO:+0200
RRULE:FREQ=YEARLY;BYDAY=-1SU;BYMONTH=3
TZNAME:CEST
END:DAYLIGHT
END:VTIMEZONE
BEGIN:VEVENT
UID:20261220T163000-41977@evangelische-termine.de
DTSTAMP:20260424T235538Z
DESCRIPTION:\nFür Engagierte: Nein\nVeranstaltungsort: Evangelische Martins
 kirche Bosenheim\nKarl-Sack-Str. 4\n55545 Bad Kreuznach\nStadteil: Bosenhe
 im\nFormat der Veranstaltung: Präsenzveranstaltung\nAusführliche Beschreib
 ung: Wir feiern gemeinsam einen Gottesdienst für Groß und Klein mit Krippe
 nspiel.\nLeitung des Gottesdienstes: Konfis\, Frau Franzmann
DTSTART;TZID=Europe/Berlin:20261220T163000
DTEND;TZID=Europe/Berlin:20261220T173000
LOCATION:Bad Kreuznach: Evangelische Martinskirche Bosenheim
SUMMARY:Krippenspiel Gottesdienst
URL:https://termine.ekhn.de/veranstaltung_im_detail41977.html
END:VEVENT
END:VCALENDAR
