BEGIN:VCALENDAR
VERSION:2.0
PRODID:-//evangelische-termine.de//NONSGML kigkonsult.se iCalcreator 2.18//
CALSCALE:GREGORIAN
METHOD:PUBLISH
X-WR-CALNAME:iCal Evangelische-Termine 25.04.2026
X-WR-CALDESC:iCalender von Evangelische-Termine (25.04.2026)
X-WR-TIMEZONE:Europe/Berlin
X-MS-OLK-FORCEINSPECTOROPEN:TRUE
BEGIN:VTIMEZONE
TZID:Europe/Berlin
BEGIN:STANDARD
DTSTART:19701025T030000
TZOFFSETFROM:+0200
TZOFFSETTO:+0100
RRULE:FREQ=YEARLY;BYDAY=-1SU;BYMONTH=10
TZNAME:CET
END:STANDARD
BEGIN:DAYLIGHT
DTSTART:19700329T020000
TZOFFSETFROM:+0100
TZOFFSETTO:+0200
RRULE:FREQ=YEARLY;BYDAY=-1SU;BYMONTH=3
TZNAME:CEST
END:DAYLIGHT
END:VTIMEZONE
BEGIN:VEVENT
UID:20261224T164500-41981@evangelische-termine.de
DTSTAMP:20260424T222050Z
DESCRIPTION:\nFür Engagierte: Nein\nVeranstaltungsort: Evangelische Kirche 
 Ippesheim\nFrankfurter Str. 2\n55545 Bad Kreuznach\nFormat der Veranstaltu
 ng: Präsenzveranstaltung\nAusführliche Beschreibung: Wir feiern gemeinsam 
 einen Gottesdienst mit Krippenspiel für Groß und Klein.\nLeitung des Gotte
 sdienstes: Pfarrer König
DTSTART;TZID=Europe/Berlin:20261224T164500
DTEND;TZID=Europe/Berlin:20261224T174500
LOCATION:Bad Kreuznach: Evangelische Kirche Ippesheim
SUMMARY:Gottesdienst zu Heilig Abend
URL:https://termine.ekhn.de/veranstaltung_im_detail41981.html
END:VEVENT
END:VCALENDAR
