BEGIN:VCALENDAR
VERSION:2.0
PRODID:-//evangelische-termine.de//NONSGML kigkonsult.se iCalcreator 2.18//
CALSCALE:GREGORIAN
METHOD:PUBLISH
X-WR-CALNAME:iCal Evangelische-Termine 24.04.2026
X-WR-CALDESC:iCalender von Evangelische-Termine (24.04.2026)
X-WR-TIMEZONE:Europe/Berlin
X-MS-OLK-FORCEINSPECTOROPEN:TRUE
BEGIN:VTIMEZONE
TZID:Europe/Berlin
BEGIN:STANDARD
DTSTART:19701025T030000
TZOFFSETFROM:+0200
TZOFFSETTO:+0100
RRULE:FREQ=YEARLY;BYDAY=-1SU;BYMONTH=10
TZNAME:CET
END:STANDARD
BEGIN:DAYLIGHT
DTSTART:19700329T020000
TZOFFSETFROM:+0100
TZOFFSETTO:+0200
RRULE:FREQ=YEARLY;BYDAY=-1SU;BYMONTH=3
TZNAME:CEST
END:DAYLIGHT
END:VTIMEZONE
BEGIN:VEVENT
UID:20270103T170000-41986@evangelische-termine.de
DTSTAMP:20260424T165142Z
DESCRIPTION:\nFür Engagierte: Nein\nVeranstaltungsort: Evangelische Martins
 kirche Biebelsheim\nObergasse 3\n55546 Biebelsheim\nFormat der Veranstaltu
 ng: Präsenzveranstaltung\nLeitung des Gottesdienstes: N.N. / Pfr. Lerchel
DTSTART;TZID=Europe/Berlin:20270103T170000
DTEND;TZID=Europe/Berlin:20270103T180000
LOCATION:Biebelsheim: Evangelische Martinskirche Biebelsheim
SUMMARY:Ökumenischer Gottesdienst mit Neujahrsempfang
URL:https://termine.ekhn.de/veranstaltung_im_detail41986.html
END:VEVENT
END:VCALENDAR
