BEGIN:VCALENDAR
VERSION:2.0
PRODID:-//evangelische-termine.de//NONSGML kigkonsult.se iCalcreator 2.18//
CALSCALE:GREGORIAN
METHOD:PUBLISH
X-WR-CALNAME:iCal Evangelische-Termine 25.04.2026
X-WR-CALDESC:iCalender von Evangelische-Termine (25.04.2026)
X-WR-TIMEZONE:Europe/Berlin
X-MS-OLK-FORCEINSPECTOROPEN:TRUE
BEGIN:VTIMEZONE
TZID:Europe/Berlin
BEGIN:STANDARD
DTSTART:19701025T030000
TZOFFSETFROM:+0200
TZOFFSETTO:+0100
RRULE:FREQ=YEARLY;BYDAY=-1SU;BYMONTH=10
TZNAME:CET
END:STANDARD
BEGIN:DAYLIGHT
DTSTART:19700329T020000
TZOFFSETFROM:+0100
TZOFFSETTO:+0200
RRULE:FREQ=YEARLY;BYDAY=-1SU;BYMONTH=3
TZNAME:CEST
END:DAYLIGHT
END:VTIMEZONE
BEGIN:VEVENT
UID:20261213T180000-41990@evangelische-termine.de
DTSTAMP:20260424T235539Z
DESCRIPTION:\nFür Engagierte: Nein\nVeranstaltungsort: Evangelische Martins
 kirche Bosenheim\nKarl-Sack-Str. 4\n55545 Bad Kreuznach\nStadteil: Bosenhe
 im\nFormat der Veranstaltung: Präsenzveranstaltung\nAusführliche Beschreib
 ung: „SPÄTSCHICHT“ - Adventliche\, musikalische Spätschicht\n\nDie Spätsch
 icht ist ein „Kurzgottesdienst“ mit anschließendem lockeren\, geselligen B
 eisammensein\, bei einem Glas Wein oder Wasser. \nSie zeichnet sich durch 
 eine einfache Liturgie mit eingängigen Liedern aus\, die über einen länger
 en Zeitraum beibehalten werden. Anstelle einer längeren Predigt stehen „Ab
 endgedanken“\, die z.B. aus einem kurzen Impuls\, einem Gespräch oder dem 
 Beitrag eines „Gastes“ besehen können. In einer offenen Zeit können die Te
 ilnehmer*innen zur Orgelmusik für sich durch den Raum gehen und an untersc
 hiedlichen Stationen 'aktiv' werden\, z.B. durch das Entzünden einer Kerze
 \, dem Ablegen eines Steines\, das Mitnehmen eines Segenswortes\, dem Aufs
 chreiben eines Gebetsanliegens oder einfach\, indem sie der Musik lauschen
  und den eigenen Gedanken nachgehen.\nLeitung des Gottesdienstes: Pfarrer 
 König
DTSTART;TZID=Europe/Berlin:20261213T180000
DTEND;TZID=Europe/Berlin:20261213T190000
LOCATION:Bad Kreuznach: Evangelische Martinskirche Bosenheim
SUMMARY:Adventliche\, musikalische Spätschicht zum 3. Advent
URL:https://termine.ekhn.de/veranstaltung_im_detail41990.html
END:VEVENT
END:VCALENDAR
